BEGIN:VCALENDAR
VERSION:2.0
PRODID:-//Fisar Delegazione Livorno - ECPv6.15.15//NONSGML v1.0//EN
CALSCALE:GREGORIAN
METHOD:PUBLISH
X-ORIGINAL-URL:https://www.fisar-livorno.it
X-WR-CALDESC:Eventi per Fisar Delegazione Livorno
REFRESH-INTERVAL;VALUE=DURATION:PT1H
X-Robots-Tag:noindex
X-PUBLISHED-TTL:PT1H
BEGIN:VTIMEZONE
TZID:Europe/Rome
BEGIN:DAYLIGHT
TZOFFSETFROM:+0100
TZOFFSETTO:+0200
TZNAME:CEST
DTSTART:20220327T010000
END:DAYLIGHT
BEGIN:STANDARD
TZOFFSETFROM:+0200
TZOFFSETTO:+0100
TZNAME:CET
DTSTART:20221030T010000
END:STANDARD
BEGIN:DAYLIGHT
TZOFFSETFROM:+0100
TZOFFSETTO:+0200
TZNAME:CEST
DTSTART:20230326T010000
END:DAYLIGHT
BEGIN:STANDARD
TZOFFSETFROM:+0200
TZOFFSETTO:+0100
TZNAME:CET
DTSTART:20231029T010000
END:STANDARD
BEGIN:DAYLIGHT
TZOFFSETFROM:+0100
TZOFFSETTO:+0200
TZNAME:CEST
DTSTART:20240331T010000
END:DAYLIGHT
BEGIN:STANDARD
TZOFFSETFROM:+0200
TZOFFSETTO:+0100
TZNAME:CET
DTSTART:20241027T010000
END:STANDARD
END:VTIMEZONE
BEGIN:VEVENT
DTSTART;TZID=Europe/Rome:20230517T204500
DTEND;TZID=Europe/Rome:20230517T233000
DTSTAMP:20260420T154449
CREATED:20230503T110309Z
LAST-MODIFIED:20230513T154822Z
UID:10216-1684356300-1684366200@www.fisar-livorno.it
SUMMARY:Vini da leggere | Degustazione
DESCRIPTION:Vi piacerebbe sapere cosa si beve nelle tragedie di Shakespeare? \nO perché i romanzi inglesi dell’Ottocento hanno un tasso alcolemico degno di nota? E ancora… cosa sorseggiano il Dottor Faust e il Conte di Montecristo? \nPotrete scoprire tutto questo e molto altro con una degustazione davvero unica dove saranno Elena Campani e Luca Canapicchi a guidarvi in un percorso che vi farà scoprire i motivi del successo letterario e culturale di alcuni vini\, passando per le pagine di libri di autori famosi. \nIn degustazione i seguenti vini: \n\nMosel Wehlener Sonnenuhr Riesling Spätlese 2018 – Dr. Loosen\nOlivares Dulce Monastrell 2017 ​\nSherry Amontillado “Solera Especial Jalifa 30 years” – Williams & Humbert\n\nUna serata assolutamente da non perdere! \n  \nNon dimenticate di portare con voi i calici da degustazione. \nNon è garantito il rimborso per eventuali disdette che saranno comunicate nei due giorni antecedenti l’evento.
URL:https://www.fisar-livorno.it/evento/vini-da-leggere-degustazione/
LOCATION:Delegazione Fisar Livorno\, Scali Cerere\, 15\, 57122 Livorno LI\, Livorno\, Li\, 57100
CATEGORIES:Degustazioni
ATTACH;FMTTYPE=image/jpeg:https://www.fisar-livorno.it/wp-content/uploads/2023/05/59cb9aadeb88b6dc5186cc0aa6020a95213875d3a0e659271abe783e90adafc2.jpg
END:VEVENT
END:VCALENDAR