BEGIN:VCALENDAR
VERSION:2.0
PRODID:-//Fisar Delegazione Livorno - ECPv6.15.15//NONSGML v1.0//EN
CALSCALE:GREGORIAN
METHOD:PUBLISH
X-WR-CALNAME:Fisar Delegazione Livorno
X-ORIGINAL-URL:https://www.fisar-livorno.it
X-WR-CALDESC:Eventi per Fisar Delegazione Livorno
REFRESH-INTERVAL;VALUE=DURATION:PT1H
X-Robots-Tag:noindex
X-PUBLISHED-TTL:PT1H
BEGIN:VTIMEZONE
TZID:Europe/Rome
BEGIN:DAYLIGHT
TZOFFSETFROM:+0100
TZOFFSETTO:+0200
TZNAME:CEST
DTSTART:20230326T010000
END:DAYLIGHT
BEGIN:STANDARD
TZOFFSETFROM:+0200
TZOFFSETTO:+0100
TZNAME:CET
DTSTART:20231029T010000
END:STANDARD
BEGIN:DAYLIGHT
TZOFFSETFROM:+0100
TZOFFSETTO:+0200
TZNAME:CEST
DTSTART:20240331T010000
END:DAYLIGHT
BEGIN:STANDARD
TZOFFSETFROM:+0200
TZOFFSETTO:+0100
TZNAME:CET
DTSTART:20241027T010000
END:STANDARD
BEGIN:DAYLIGHT
TZOFFSETFROM:+0100
TZOFFSETTO:+0200
TZNAME:CEST
DTSTART:20250330T010000
END:DAYLIGHT
BEGIN:STANDARD
TZOFFSETFROM:+0200
TZOFFSETTO:+0100
TZNAME:CET
DTSTART:20251026T010000
END:STANDARD
END:VTIMEZONE
BEGIN:VEVENT
DTSTART;TZID=Europe/Rome:20240217T101500
DTEND;TZID=Europe/Rome:20240217T130000
DTSTAMP:20260420T130130
CREATED:20240201T142104Z
LAST-MODIFIED:20240201T142238Z
UID:11715-1708164900-1708174800@www.fisar-livorno.it
SUMMARY:Gita in Cantina con potatura  - Tenuta FORTULLA
DESCRIPTION:Cari associati\, \nè con grande piacere che vi invitiamo alla prima visita in cantina del 2024. Iniziamo “Camminiamo le vigne” alla grande\, andando a visitare una realtà a noi molto vicina e non solo per distanze geografiche ma perché cantina storica di MareDiVino: stiamo parlando della Tenuta Fortulla che ha pensato per noi ad una visita molto particolare. \nInfatti non ci limiteremo a una semplice degustazione ma ciascun partecipante avrà la possibilità di potare una vite. \nLa Tenuta Fortulla è un’isola di natura\, di stupenda macchia mediterranea\, dove si presenta il lavoro paziente della terra e dei suoi frutti. Si trova in una zona che\, grazie al Progetto Bioitaly della Direttiva Europea Habitat\, è stata riconosciuta “sito di interesse Nazionale\, per la sua preziosa biodiversità”. \nLa filosofia aziendale abbraccia le pratiche biologiche perché questa è la strada che l’azienda vuole per il suo futuro. \nFin dalla preparazione del terreno\, le lavorazioni vengono condotte in maniera biologica e anche le barbatelle sono piantate a mano. \nL’essere biologici rispecchia la linea di pensiero della Tenuta Fortulla che aiuta e amplifica l’identità dei loro vini e ad essere più unici. Ad attenderci dopo il “duro” lavoro avremo il piacere di degustare le seguenti etichette: \n\n“Epatta” Rosato di Toscana IGT 2022\n“Pelagico” Bianco di Toscana IGT 2019\n“Fortulla” Rosso di Toscana IGT 2019\n\nCi incontreremo direttamente presso la Tenuta Fortulla alle ore 10\,15\, per iniziare la visita puntuale alle 10\,30. \nNon è garantito il rimborso per eventuali disdette che saranno comunicate nei tre giorni antecedenti l’evento. \nIn caso di sold out\, qualora voleste essere inseriti in una “lista di attesa”\, sarà necessario inviare una mail a segretario.livorno@fisar.com che provvederà ad inserire le richieste in ordine cronologico. Non sarà consentito l’inserimento tramite altre modalità. \nAffrettatevi\, i posti sono limitatissimi!
URL:https://www.fisar-livorno.it/evento/gita-in-cantina-con-potatura-tenuta-fortulla/
LOCATION:Tenuta La Fortulla\, Strada Vicinale delle Spianate - località “Le Spianate“\, Castiglioncello (Livorno)\, 57016
CATEGORIES:Degustazioni
ATTACH;FMTTYPE=image/jpeg:https://www.fisar-livorno.it/wp-content/uploads/2024/02/RYJb9_rWHHta1.jpg
END:VEVENT
END:VCALENDAR