BEGIN:VCALENDAR
VERSION:2.0
PRODID:-//Fisar Delegazione Livorno - ECPv6.15.15//NONSGML v1.0//EN
CALSCALE:GREGORIAN
METHOD:PUBLISH
X-WR-CALNAME:Fisar Delegazione Livorno
X-ORIGINAL-URL:https://www.fisar-livorno.it
X-WR-CALDESC:Eventi per Fisar Delegazione Livorno
REFRESH-INTERVAL;VALUE=DURATION:PT1H
X-Robots-Tag:noindex
X-PUBLISHED-TTL:PT1H
BEGIN:VTIMEZONE
TZID:Europe/Rome
BEGIN:DAYLIGHT
TZOFFSETFROM:+0100
TZOFFSETTO:+0200
TZNAME:CEST
DTSTART:20240331T010000
END:DAYLIGHT
BEGIN:STANDARD
TZOFFSETFROM:+0200
TZOFFSETTO:+0100
TZNAME:CET
DTSTART:20241027T010000
END:STANDARD
BEGIN:DAYLIGHT
TZOFFSETFROM:+0100
TZOFFSETTO:+0200
TZNAME:CEST
DTSTART:20250330T010000
END:DAYLIGHT
BEGIN:STANDARD
TZOFFSETFROM:+0200
TZOFFSETTO:+0100
TZNAME:CET
DTSTART:20251026T010000
END:STANDARD
BEGIN:DAYLIGHT
TZOFFSETFROM:+0100
TZOFFSETTO:+0200
TZNAME:CEST
DTSTART:20260329T010000
END:DAYLIGHT
BEGIN:STANDARD
TZOFFSETFROM:+0200
TZOFFSETTO:+0100
TZNAME:CET
DTSTART:20261025T010000
END:STANDARD
END:VTIMEZONE
BEGIN:VEVENT
DTSTART;TZID=Europe/Rome:20250922T080000
DTEND;TZID=Europe/Rome:20250922T080000
DTSTAMP:20260422T140546
CREATED:20250523T150145Z
LAST-MODIFIED:20250926T122849Z
UID:14989-1758528000-1758528000@www.fisar-livorno.it
SUMMARY:Corso di primo livello per sommelier a Livorno – Settembre 2025
DESCRIPTION:Un viaggio polisensoriale nel mondo del vino per apprendere le regole della degustazione. \nVuoi regalare questo corso a qualcuno a te caro? Clicca qua \n\n\nIl primo livello\, propedeutico al secondo e al terzo livello\, è strutturato per soddisfare la curiosità di chi si avvicina al mondo dell’enologia per la prima volta. Dopo un excursus sugli “strumenti” del Sommelier\, dall’iconico tastevin a frangino\, decanter e cavatappi\, dalla corretta disposizione dei vini in cantina alla scelta del bicchiere adatto a esaltare le caratteristiche organolettiche di ogni bottiglia\, inizia il viaggio nella degustazione\, un’esperienza polisensoriale\, unica e autentica\, che cambia ad ogni assaggio.  \nNon solo sapori e profumi: il corso approfondisce il legame tra viticoltura e territorio\, analizza le migliori forme di allevamento (schemi di potatura e geometria del filare che favoriscono la resa produttiva della pianta) per ogni regione e illustra le tecniche di vinificazione\, il delicato processo che accompagna l’uva dalla raccolta all’imbottigliamento. \nTutte le lezioni dei tre livelli del corso per sommelier\, saranno tenute da docenti qualificati ed iscritti all’Albo nazionale dei relatori FISAR o da esperti in deroga\, quali agronomi ed enologi professionisti. Tutte le lezioni si terranno presso la sede della Delegazione in Livorno. \n\n\nAl Corso di primo livello è consentita la partecipazione ai soli associati Fisar. \nIl costo del corso non comprende la quota per la Tessera Fisar nazionale il cui costo è di 70\,00 Euro (40\,00 Euro se under 25). Si potrà provvedere al tesseramento successivamente all’iscrizione al corso\, scaricando l’app NOIFISAR oppure collegandosi al sito di Fisar Nazionale al seguente link: FISAR Iscrizioni \nIn caso di difficoltà nell’iscrizione al corso o nel  tesseramento a Fisar si prega di contattarci scrivendo a  segretario.livorno@fisar.com \n\n\nOGNI LEZIONE SI TERRÀ PRESSO LA SEDE E COMPRENDERÀ UNA DEGUSTAZIONE DI TRE VINI. \nLe lezioni si terranno generalmente il Lunedi alle 21:00 presso la nostra sede. \nDirettrice di corso: Ilaria Serra
URL:https://www.fisar-livorno.it/evento/corso-di-primo-livello-per-sommelier-a-livorno-settembre-2025/
LOCATION:Delegazione Fisar Livorno\, Scali Cerere\, 15\, 57122 Livorno LI\, Livorno\, Li\, 57100
CATEGORIES:Corsi Fisar
ATTACH;FMTTYPE=image/jpeg:https://www.fisar-livorno.it/wp-content/uploads/2021/05/22.jpg
END:VEVENT
END:VCALENDAR